BEGIN:VCALENDAR
VERSION:2.0
PRODID:-//NWOCYC - ECPv6.15.17.1//NONSGML v1.0//EN
CALSCALE:GREGORIAN
METHOD:PUBLISH
X-ORIGINAL-URL:https://nwocyc.org
X-WR-CALDESC:Events for NWOCYC
REFRESH-INTERVAL;VALUE=DURATION:PT1H
X-Robots-Tag:noindex
X-PUBLISHED-TTL:PT1H
BEGIN:VTIMEZONE
TZID:UTC
BEGIN:STANDARD
TZOFFSETFROM:+0000
TZOFFSETTO:+0000
TZNAME:UTC
DTSTART:20250101T000000
END:STANDARD
END:VTIMEZONE
BEGIN:VEVENT
DTSTART;VALUE=DATE:20260417
DTEND;VALUE=DATE:20260421
DTSTAMP:20260420T113902
CREATED:20260224T031729Z
LAST-MODIFIED:20260304T012328Z
UID:7171-1776398400-1776657599@nwocyc.org
SUMMARY:Nick Strawser Retreat weekend
DESCRIPTION:
URL:https://nwocyc.org/calendar/nick-strawser-retreat-weekend/
END:VEVENT
BEGIN:VEVENT
DTSTART;VALUE=DATE:20260424
DTEND;VALUE=DATE:20260428
DTSTAMP:20260420T113902
CREATED:20260224T031729Z
LAST-MODIFIED:20260304T012329Z
UID:7172-1777003200-1777262399@nwocyc.org
SUMMARY:Camp Reservation for Spring Road Retreat: Cody Larochelle
DESCRIPTION:
URL:https://nwocyc.org/calendar/camp-reservation-for-spring-road-retreat-cody-larochelle/
END:VEVENT
END:VCALENDAR